BEGIN:VCALENDAR
VERSION:2.0
PRODID:-//wp-events-plugin.com//7.2.3.1//EN
BEGIN:VEVENT
UID:1692@roze50plus.nl
DTSTART;TZID=Europe/Amsterdam:20260823T150000
DTEND;TZID=Europe/Amsterdam:20260823T190000
DTSTAMP:20250220T163340Z
URL:https://roze50plus.nl/events/middag-salon-2026-08-23/
SUMMARY:Middag Salon
DESCRIPTION:Iedere vierde zondagmiddag\, bijeenkomst van 15.00 - 19.00 uur 
 in De Knillispoort\, Korte Waterstraat 15\, 's-Hertogenbosch. voor LHBTI
 ’ers. Check ook de Zondagmiddagsalon-Facebook-pagina.
ATTACH;FMTTYPE=image/jpeg:https://roze50plus.nl/wp-content/uploads/ZMB-log
 o.png
LOCATION:Knillispoort\, Korte Waterstraat 15\, 's-Hertogenbosch\, Noord-Bra
 bant\, 5211 NR\, Nederland
GEO:51.689499;5.305428
X-APPLE-STRUCTURED-LOCATION;VALUE=URI;X-ADDRESS=Korte Waterstraat 15\, 's-H
 ertogenbosch\, Noord-Brabant\, 5211 NR\, Nederland;X-APPLE-RADIUS=100;X-TI
 TLE=Knillispoort:geo:51.689499,5.305428
END:VEVENT
BEGIN:VTIMEZONE
TZID:Europe/Amsterdam
X-LIC-LOCATION:Europe/Amsterdam
BEGIN:DAYLIGHT
DTSTART:20260329T030000
TZOFFSETFROM:+0100
TZOFFSETTO:+0200
TZNAME:CEST
END:DAYLIGHT
END:VTIMEZONE
END:VCALENDAR