BEGIN:VCALENDAR
VERSION:2.0
PRODID:-//wp-events-plugin.com//7.2.3.1//EN
BEGIN:VEVENT
UID:5673@roze50plus.nl
DTSTART;TZID=Europe/Amsterdam:20251005T123000
DTEND;TZID=Europe/Amsterdam:20251005T173000
DTSTAMP:20250815T213632Z
URL:https://roze50plus.nl/events/nationale-roze-ouderendag-2025/
SUMMARY:Nationale Roze Ouderendag 2025
DESCRIPTION:\nEen feest van erkenning\, kunst en verbondenheid 📍 5 oktob
 er 2025\, Utrecht\n\n\n\nOp zondag 5 oktober komen Regenboog Senioren vanu
 it het hele land samen in Utrecht voor de Nationale Roze Ouderendag 2025. 
 Een bijzondere middag vol kunst\, cultuur en verbinding\, waar drie initia
 tieven in de schijnwerpers staan die zich op bijzondere wijze inzetten voo
 r de emancipatie en het welzijn van Regenboog Senioren.\n\n\n\n\n\nSenior 
 Pride community onderscheiding\n\n\n\nJaarlijks eren we personen of initia
 tieven die zich op bijzondere wijze verdienstelijk hebben gemaakt voor de 
 emancipatie en het welzijn van Regenboog Senioren. Dit jaar zetten we drie
  initiatieven in de spotlight!\n\n\n\nHou onze website en socials in de ga
 ten over wie de genomineerden zijn!\n\n\n\n\n\n\n\n\n\n\n\nProgramma Roze 
 Ouderendag 2025\n\n\n\n\n\n\n\n\n\n\n\n\n{{post_title link:post}}\n\n\n\n\
 n\n\n\n\n📧 De toegang is gratis\, maar aanmelden is verplicht via info@
 roze50plus.nl. Kom samen vieren\, luisteren\, lachen en leren — een dag 
 vol liefde\, moed en verbondenheid.\n\n\n\n\n\n\n\n\n\n\n\n\n\n\n\n\n\n\n\
 n\n\n\n\n\n\n\n\n\n\n\n\n\nRoze Ouderen dag 2025 wordt mede mogelijk gemaa
 kt door&nbsp\;Stichting&nbsp\;Brentano’s Steun des Ouderdoms\n\n\n\nDe R
 oze Ouderen Dag wordt mede mogelijk gemaakt door Brentano's Steun des Oude
 rdoms\, een fonds dat zich al generaties lang inzet voor het welzijn van o
 uderen. Dankzij hun betrokkenheid en steun kunnen we samen bouwen aan een 
 dag vol verbinding\, herkenning en plezier voor regenboogsenioren.\n\n\n\n
 \n\n\n\nhttps://www.brentanosteun.nl\n\n\n\n
ATTACH;FMTTYPE=image/jpeg:https://roze50plus.nl/wp-content/uploads/logoroz
 eouderendag2025.png
CATEGORIES:Midden-Nederland,Ontmoeting
LOCATION:Neude Bibliotheek\, Neude 11\, Utrecht\, Utrecht\, 3512 AE\, Neder
 land
GEO:52.093128;5.118179
X-APPLE-STRUCTURED-LOCATION;VALUE=URI;X-ADDRESS=Neude 11\, Utrecht\, Utrech
 t\, 3512 AE\, Nederland;X-APPLE-RADIUS=100;X-TITLE=Neude Bibliotheek:geo:5
 2.093128,5.118179
END:VEVENT
BEGIN:VTIMEZONE
TZID:Europe/Amsterdam
X-LIC-LOCATION:Europe/Amsterdam
BEGIN:DAYLIGHT
DTSTART:20250330T030000
TZOFFSETFROM:+0100
TZOFFSETTO:+0200
TZNAME:CEST
END:DAYLIGHT
END:VTIMEZONE
END:VCALENDAR