BEGIN:VCALENDAR
VERSION:2.0
PRODID:-//wp-events-plugin.com//7.2.3.1//EN
BEGIN:VEVENT
UID:6996@roze50plus.nl
DTSTART;TZID=Europe/Amsterdam:20260305T000000
DTEND;TZID=Europe/Amsterdam:20280203T000000
DTSTAMP:20260422T091603Z
URL:
SUMMARY:Regenboogcafé Amstelbite\, Amstelhoek
DESCRIPTION:\nAmstelbite\, Amstelhoek\n\n\n\nRegenboogcafé – elke 1e don
 derdag van de maand\n\n\n\nTijd: vanaf 20.00 uur\n\n\n\nLocatie: Amstelbit
 e\, Mijdrechtse Zuwe 69\, 1427 AV Amstelhoek\n\n\n\nKom gezellig langs voo
 r een avond vol ontmoeting\, warmte en een fijne sfeer. Het Regenboogcafé
  is dé plek om andere LHBTI+’ers uit de regio te ontmoeten\, bij te pra
 ten of gewoon te genieten van een ontspannen avond.\n\n\n\nData 2026:\n\n\
 n\n1 jan • 5 feb • 5 mrt • 2 apr • 7 mei • 4 juni • 2 juli •
 \n\n\n\n6 aug • 3 sep • 1 okt • 5 nov • 3 dec\n\n\n\n\n
LOCATION:Amstelbite\, Mijdrechtse Zuwe 69\, Amstelhoek\, Utrecht\, 1427 AV\
 , Nederland
GEO:52.230489;4.831934
X-APPLE-STRUCTURED-LOCATION;VALUE=URI;X-ADDRESS=Mijdrechtse Zuwe 69\, Amste
 lhoek\, Utrecht\, 1427 AV\, Nederland;X-APPLE-RADIUS=100;X-TITLE=Amstelbit
 e:geo:52.230489,4.831934
END:VEVENT
BEGIN:VTIMEZONE
TZID:Europe/Amsterdam
X-LIC-LOCATION:Europe/Amsterdam
BEGIN:STANDARD
DTSTART:20251026T020000
TZOFFSETFROM:+0200
TZOFFSETTO:+0100
TZNAME:CET
END:STANDARD
BEGIN:DAYLIGHT
DTSTART:20260329T030000
TZOFFSETFROM:+0100
TZOFFSETTO:+0200
TZNAME:CEST
END:DAYLIGHT
BEGIN:STANDARD
DTSTART:20261025T020000
TZOFFSETFROM:+0200
TZOFFSETTO:+0100
TZNAME:CET
END:STANDARD
BEGIN:DAYLIGHT
DTSTART:20270328T030000
TZOFFSETFROM:+0100
TZOFFSETTO:+0200
TZNAME:CEST
END:DAYLIGHT
BEGIN:STANDARD
DTSTART:20271031T020000
TZOFFSETFROM:+0200
TZOFFSETTO:+0100
TZNAME:CET
END:STANDARD
END:VTIMEZONE
END:VCALENDAR