BEGIN:VCALENDAR
VERSION:2.0
PRODID:-//wp-events-plugin.com//7.2.3.1//EN
BEGIN:VEVENT
UID:5832@roze50plus.nl
DTSTART;TZID=Europe/Amsterdam:20260918T140000
DTEND;TZID=Europe/Amsterdam:20260918T160000
DTSTAMP:20250813T201647Z
URL:https://roze50plus.nl/events/regenboogsalon-arnhem-2025-08-15-2025-09-
 19-2025-10-17-2025-11-21-2025-12-19-2026-01-16-2026-02-20-2026-03-20-2026-
 04-17-2026-05-15-2026-06-19-2026-07-17-2026-08-21-2026-09-18/
SUMMARY:Regenboogsalon Arnhem
DESCRIPTION:\nDe Regenboogsalon is een maandelijkse bijeenkomst waar we sam
 en in gesprek gaan. Van luchtige onderwerpen tot serieuzere discussies\, m
 aar altijd in een gezellige sfeer. Tijdens het samenzijn kan je genieten v
 an lekkere hapjes en alcoholvrije drankjes. De Regenboogsalon verwelkomt i
 edereen die openstaat voor gesprekken en verbinding. Ongeacht leeftijd\, a
 chtergrond of identiteit: we willen van elkaar leren en elkaar respecteren
 .&nbsp\;\n\n\n\nElke derde vrijdag van de maand\, tussen 14.00 en 16.00 uu
 r\, ontmoeten we elkaar op een van onze locaties.&nbsp\;Locatie:&nbsp\;De 
 Weldam\, Middachtensingel 39\, Arnhem (Presikhaaf)Aanmelden en meer inform
 atie:&nbsp\;regenboog@swoa.nl&nbsp\;(aanmelden uiterlijk 1 dag voor de sal
 on)\n
ATTACH;FMTTYPE=image/jpeg:https://roze50plus.nl/wp-content/uploads/regenbo
 ogsalonarnhem.png
CATEGORIES:Gelderland
LOCATION:De Weldam\, Middachtensingel 39\, Arnhem\, Gelderland\, 6825 HG\, 
 Nederland
GEO:51.985636;5.960365
X-APPLE-STRUCTURED-LOCATION;VALUE=URI;X-ADDRESS=Middachtensingel 39\, Arnhe
 m\, Gelderland\, 6825 HG\, Nederland;X-APPLE-RADIUS=100;X-TITLE=De Weldam:
 geo:51.985636,5.960365
END:VEVENT
BEGIN:VTIMEZONE
TZID:Europe/Amsterdam
X-LIC-LOCATION:Europe/Amsterdam
BEGIN:DAYLIGHT
DTSTART:20260329T030000
TZOFFSETFROM:+0100
TZOFFSETTO:+0200
TZNAME:CEST
END:DAYLIGHT
END:VTIMEZONE
END:VCALENDAR