BEGIN:VCALENDAR
VERSION:2.0
PRODID:-//wp-events-plugin.com//7.2.3.1//EN
BEGIN:VEVENT
UID:7282@roze50plus.nl
DTSTART;TZID=Europe/Amsterdam:20260424T143000
DTEND;TZID=Europe/Amsterdam:20260424T180000
DTSTAMP:20260421T143158Z
URL:https://roze50plus.nl/events/uitnodiging-tentoonstelling-oudroze/
SUMMARY:Uitnodiging: tentoonstelling Oudroze!
DESCRIPTION:\nDe opening van de tentoonstelling Oudroze is op vrijdag 24 ap
 ril om 15.00 uur in de Koninklijke Schouwburg\, Korte Voorhout 3 te Den Ha
 ag. Inloop vanaf 14.30 uur.Kom jij ook?\n\n\n\nDe buiten-tentoonstelling O
 udroze van fotograaf/kunstenaar Ernst Coppejans is van 24 april tot 15 mei
  te zien op de Laan van Reagan en Gorbatsjov. Daarop volgend van 15 mei to
 t 6 juni is de binnen-tentoonstelling in de bibliotheek Nieuw-Waldeck.\n\n
 \n\nDeze tentoonstelling van Ernst Coppejans is in samenwerking met sticht
 ing Open mind en staat stil bij de ervaringen van de eerste lesbische vrou
 wen\, homoseksuele mannen\, biseksuele\, transgender en intersekse persone
 n (lhbti) die openlijk voor hun geaardheid uit durfden te komen.\n\n\n\nDa
 nkzij deze generatie (70+) die de homo-emancipatie tot stand bracht\, heef
 t de huidige lhbtiqa+ gemeenschap een vrijheid die allesbehalve vanzelfspr
 ekend is en die actief moet worden onderhouden.\n\n\n\nErnst Coppejans ver
 beeldt de persoonlijke\, inspirerende en soms schokkende – maar ook voor
 al prachtige en intieme verhalen van deze roze ouderen met Nederlandse en 
 migratie achtergronden.\n
ATTACH;FMTTYPE=image/jpeg:https://roze50plus.nl/wp-content/uploads/oudroze
 -tentoonstelling.png
LOCATION:Koninklijke Schouwburg\, Korte voorhout 3\, Den Haag\, Zuid-Hollan
 d\, 2511 CW\, Nederland
GEO:52.081886;4.315821
X-APPLE-STRUCTURED-LOCATION;VALUE=URI;X-ADDRESS=Korte voorhout 3\, Den Haag
 \, Zuid-Holland\, 2511 CW\, Nederland;X-APPLE-RADIUS=100;X-TITLE=Koninklij
 ke Schouwburg:geo:52.081886,4.315821
END:VEVENT
BEGIN:VTIMEZONE
TZID:Europe/Amsterdam
X-LIC-LOCATION:Europe/Amsterdam
BEGIN:DAYLIGHT
DTSTART:20260329T030000
TZOFFSETFROM:+0100
TZOFFSETTO:+0200
TZNAME:CEST
END:DAYLIGHT
END:VTIMEZONE
END:VCALENDAR