BEGIN:VCALENDAR
VERSION:2.0
PRODID:-//wp-events-plugin.com//7.2.3.1//EN
BEGIN:VEVENT
UID:1537@roze50plus.nl
DTSTART;TZID=Europe/Amsterdam:20261025T160000
DTEND;TZID=Europe/Amsterdam:20261025T190000
DTSTAMP:20240928T191519Z
URL:https://roze50plus.nl/events/zondagmiddagsalon-2026-10-25/
SUMMARY:ZondagMiddagSalon
DESCRIPTION:Iedere vierde zondagmiddag van de maand organiseert COC Devente
 r de ZondagMiddagSalon in Café De Herberg\, Polstraat 62 te Deventer. Er 
 is dan gelegenheid om gezellig bij te kletsen met oude bekenden èn nieuwe
  gezichten te leren kennen. En dat alles in een gemoedelijke sfeer. De Sal
 on start om 16.00 uur en gaat officieel door tot 19.00 uur. De entree is g
 ratis.\n\nDe werkgroep Roze 50+ organiseert deze middag\, maar iedereen (o
 ngeacht leeftijd of geaardheid) is van harte welkom. Alle mensen die houde
 n van een gemoedelijke sfeer en een gezellig praatje zonder harde muziek z
 ijn van harte welkom!\n\nContact: roze50plus@cocdeventer.nl
ATTACH;FMTTYPE=image/jpeg:https://roze50plus.nl/wp-content/uploads/devente
 rsalon.jpg
LOCATION:Café De Herberg\, Polstraat 62\, Deventer\, Overijssel\, 7411 KC\
 , Nederland
GEO:52.25036;6.15842
X-APPLE-STRUCTURED-LOCATION;VALUE=URI;X-ADDRESS=Polstraat 62\, Deventer\, O
 verijssel\, 7411 KC\, Nederland;X-APPLE-RADIUS=100;X-TITLE=Café De Herber
 g:geo:52.25036,6.15842
END:VEVENT
BEGIN:VTIMEZONE
TZID:Europe/Amsterdam
X-LIC-LOCATION:Europe/Amsterdam
BEGIN:STANDARD
DTSTART:20261025T020000
TZOFFSETFROM:+0200
TZOFFSETTO:+0100
TZNAME:CET
END:STANDARD
END:VTIMEZONE
END:VCALENDAR